BEGIN:VCALENDAR
VERSION:2.0
PRODID:icalendar-ruby
CALSCALE:GREGORIAN
BEGIN:VEVENT
DTSTAMP:20260422T134911Z
UID:95fc6725-335e-4a12-8a4a-b5a9f1b1dd8c
DTSTART;VALUE=DATE:20210414
DESCRIPTION:Property ID# 505174\, Locatoin: Harcourts Paremata @ 1pm\, Time
 : 1:00PM
SUMMARY:Auction for 
END:VEVENT
END:VCALENDAR
