BEGIN:VCALENDAR
VERSION:2.0
PRODID:icalendar-ruby
CALSCALE:GREGORIAN
BEGIN:VEVENT
DTSTAMP:20260422T171335Z
UID:99f8f595-ccd0-4833-abe0-15af9f1659c1
DTSTART;VALUE=DATE:20200513
DESCRIPTION:Property ID# 476520\, Locatoin: Harcourts Paremata Office 1.00p
 m (not selling  prior)\, Time: 1:00PM
SUMMARY:Auction for 
END:VEVENT
END:VCALENDAR
