BEGIN:VCALENDAR
VERSION:2.0
PRODID:icalendar-ruby
CALSCALE:GREGORIAN
BEGIN:VEVENT
DTSTAMP:20260422T171844Z
UID:1c161734-5ca2-4ae9-8fd0-21a887e55a38
DTSTART;VALUE=DATE:20200401
DESCRIPTION:Property ID# 475086\, Locatoin: Harcourts Paremata Office (not 
 selling prior)\, Time: 1:00PM
SUMMARY:Auction for 
END:VEVENT
END:VCALENDAR
