BEGIN:VCALENDAR
VERSION:2.0
PRODID:icalendar-ruby
CALSCALE:GREGORIAN
BEGIN:VEVENT
DTSTAMP:20260424T101602Z
UID:f61a9b5f-178d-443b-92ee-1b7aa973e1f6
DTSTART;VALUE=DATE:20191121
DESCRIPTION:Property ID# 464274\, Locatoin: Harcourts Paraparaumu Auction R
 oom (not selling prior)\, Time: 12:00PM
SUMMARY:Auction for 
END:VEVENT
END:VCALENDAR
