BEGIN:VCALENDAR
VERSION:2.0
PRODID:icalendar-ruby
CALSCALE:GREGORIAN
BEGIN:VEVENT
DTSTAMP:20260422T171901Z
UID:a3482959-df39-4228-92c6-063d6182ed8e
DTSTART;VALUE=DATE:20190925
DESCRIPTION:Property ID# 461266\, Locatoin: Harcourts Paremata Office (not 
 selling prior)\, Time: 1:00PM
SUMMARY:Auction for 
END:VEVENT
END:VCALENDAR
